BEGIN:VCALENDAR
VERSION:2.0
PRODID:-//eventon.com NONSGML v1.0//EN
CALSCALE:GREGORIAN
METHOD:PUBLISH
BEGIN:VEVENT
UID:69e5ac89ea623
DTSTAMP:20260420T043313Z
DTSTART:20250710T210000Z
DTEND:20250710T220000Z
LOCATION:
SUMMARY:Visita de la Virgen a la Calle Doctor Marañón 6
DESCRIPTION:Rezo del Rosario y luego traslado de la Virgen 📅Fecha: Jueve
 s 10 de Julio de 2025 🕑Hora: 21:00h 📌Lugar: Carretera de Mula &#8211;
  Bar Maruso Recorrido: Salida en la Carretera de Mula &#8211; Bar Maruso ha
 sta la Calle Doctor Marañón 6\nhttps://alguazas.es/events/visita-de-la-vi
 rgen-a-la-calle-doctor-maranon-6/
URL:https://alguazas.es/events/visita-de-la-virgen-a-la-calle-doctor-maranon-6/
END:VEVENT
END:VCALENDAR