BEGIN:VCALENDAR
VERSION:2.0
PRODID:-//eventon.com NONSGML v1.0//EN
CALSCALE:GREGORIAN
METHOD:PUBLISH
BEGIN:VEVENT
UID:69e6652479520
DTSTAMP:20260420T174052Z
DTSTART:20250711T210000Z
DTEND:20250711T220000Z
LOCATION:
SUMMARY:Visita de la Virgen a la Calle Hernán Cortés
DESCRIPTION:Rezo del Rosario y luego traslado de la Virgen 📅Fecha: Viern
 es 11 de Julio de 2025 🕑Hora: 21:00h 📌Lugar: Calle Doctor Marañón 6
  📌Recorrido: Salida en la Calle Doctor Marañón 6 hasta la Calle Herná
 n Cortés\nhttps://alguazas.es/events/visita-de-la-virgen-a-la-calle-hernan
 -cortes/
URL:https://alguazas.es/events/visita-de-la-virgen-a-la-calle-hernan-cortes/
END:VEVENT
END:VCALENDAR