BEGIN:VCALENDAR
VERSION:2.0
PRODID:-//eventon.com NONSGML v1.0//EN
CALSCALE:GREGORIAN
METHOD:PUBLISH
BEGIN:VEVENT
UID:69e696a54b7e5
DTSTAMP:20260420T211205Z
DTSTART:20250712T210000Z
DTEND:20250712T220000Z
LOCATION:
SUMMARY:Traslado de la Virgen a la Ermita
DESCRIPTION:Rezo del Rosario y luego traslado de la Virgen a la Ermita 📅
 Fecha: Sábado 12 de Julio 🕑Hora: 21:00h 📌Lugar: Calle Hernán Corté
 s 📌Recorrido: Salida en la Calle Hernán Cortés hasta la Ermita\nhttps:
 //alguazas.es/events/traslado-de-la-virgen-a-la-ermita/
URL:https://alguazas.es/events/traslado-de-la-virgen-a-la-ermita/
END:VEVENT
END:VCALENDAR