BEGIN:VCALENDAR
VERSION:2.0
PRODID:-//eventon.com NONSGML v1.0//EN
CALSCALE:GREGORIAN
METHOD:PUBLISH
BEGIN:VEVENT
UID:69e76d2b2fc0a
DTSTAMP:20260421T122723Z
DTSTART:20210512T200000Z
DTEND:20210512T210000Z
LOCATION:
SUMMARY:Presentación del programa de control de colonias felinas
DESCRIPTION:La Concejalía de Bienestar Animal presenta oficialmente su pro
 grama de control de colonias felinas. Tendrá lugar en una de las colonias 
 felinas instaladas en el municipio\,  donde intervendrá el edil del área\
 ,  Jesús Gomariz Puerta\,  y la protectora local\,  Anerpa. Están invitad
 os a esta presentación\,  además de los vecinos que[..]\nhttps://alguazas
 .es/events/presentacion-del-programa-de-control-de-colonias-felinas/
URL:https://alguazas.es/events/presentacion-del-programa-de-control-de-colonias-felinas/
END:VEVENT
END:VCALENDAR