BEGIN:VCALENDAR
VERSION:2.0
PRODID:-//eventon.com NONSGML v1.0//EN
CALSCALE:GREGORIAN
METHOD:PUBLISH
BEGIN:VEVENT
UID:69ecc4496e1f8
DTSTAMP:20260425T134025Z
DTSTART:20250712T220000Z
DTEND:20250712T233000Z
LOCATION:
SUMMARY:Gala de presentaciÃ³n de las Majas de las Fiestas
DESCRIPTION:Gala de presentaciÃ³n de las Majas de las Fiestas ðŸ“…Fecha: SÃ
 ¡bado 12 de Julio de 2025 ðŸ•‘Hora: 22:00h ðŸ“ŒLugar: Plaza Paco Serna\nhtt
 ps://alguazas.es/events/gala-de-presentacion-de-las-majas-de-las-fiestas/
URL:https://alguazas.es/events/gala-de-presentacion-de-las-majas-de-las-fiestas/
END:VEVENT
END:VCALENDAR