BEGIN:VCALENDAR
VERSION:2.0
PRODID:-//eventon.com NONSGML v1.0//EN
CALSCALE:GREGORIAN
METHOD:PUBLISH
BEGIN:VEVENT
UID:69e5165ec98a8
DTSTAMP:20260419T175230Z
DTSTART:20250713T210000Z
DTEND:20250713T223000Z
LOCATION:
SUMMARY:Concurso de moda canino
DESCRIPTION:¡Llega el Concurso Canino de las Fiestas del Barrio del Carmen
 ! Si tu perro es el más guapo\,  el más obediente o el que lleva el disfr
 az más original&#8230; ¡este es su momento de brillar! 📅Fecha: Domingo
  13 de Julio de 2025 🕑Hora: 21:00h 📌Lugar: Plaza Paco Serna Categorí
 as: Mejor[..]\nhttps://alguazas.es/events/concurso-de-moda-canino/
URL:https://alguazas.es/events/concurso-de-moda-canino/
END:VEVENT
END:VCALENDAR