BEGIN:VCALENDAR
VERSION:2.0
PRODID:-//eventon.com NONSGML v1.0//EN
CALSCALE:GREGORIAN
METHOD:PUBLISH
BEGIN:VEVENT
UID:69e7392fa9556
DTSTAMP:20260421T084535Z
DTSTART:20250713T223000Z
DTEND:20250713T235900Z
LOCATION:
SUMMARY:Actuación de las Peñas Daniel Asís Dance y El Molinico
DESCRIPTION:📅Fecha: Domingo 13 de Julio de 2025 🕑Hora: 22:30h 📌Lug
 ar: Plaza Paco Serna\nhttps://alguazas.es/events/actuacion-de-las-penas-dan
 iel-asis-dance-y-el-molinico/
URL:https://alguazas.es/events/actuacion-de-las-penas-daniel-asis-dance-y-el-molinico/
END:VEVENT
END:VCALENDAR