BEGIN:VCALENDAR
VERSION:2.0
PRODID:-//eventon.com NONSGML v1.0//EN
CALSCALE:GREGORIAN
METHOD:PUBLISH
BEGIN:VEVENT
UID:69e5171a5d823
DTSTAMP:20260419T175538Z
DTSTART:20250714T210000Z
DTEND:20250714T220000Z
LOCATION:
SUMMARY:Masterclass de Bachata
DESCRIPTION:Organiza el grupo Bachatéame de la Peña El Molinico. 📅Fech
 a: Lunes 14 de Julio de 2025 🕑Hora: 21:00h 📌Lugar: Plaza Paco Serna\n
 https://alguazas.es/events/masterclass-de-bachata-2/
URL:https://alguazas.es/events/masterclass-de-bachata-2/
END:VEVENT
END:VCALENDAR