BEGIN:VCALENDAR
VERSION:2.0
PRODID:-//eventon.com NONSGML v1.0//EN
CALSCALE:GREGORIAN
METHOD:PUBLISH
BEGIN:VEVENT
UID:69e549c51643a
DTSTAMP:20260419T213149Z
DTSTART:20250714T220000Z
DTEND:20250714T235900Z
LOCATION:
SUMMARY:Actuación de Peña Bailaló Dance Studio
DESCRIPTION:📅Fecha: Lunes 14 de Julio de 2025 🕑Hora: 22:00h 📌Lugar
 : Plaza Paco Serna\nhttps://alguazas.es/events/actuacion-de-pena-bailalo-da
 nce-studio/
URL:https://alguazas.es/events/actuacion-de-pena-bailalo-dance-studio/
END:VEVENT
END:VCALENDAR