BEGIN:VCALENDAR
VERSION:2.0
PRODID:-//eventon.com NONSGML v1.0//EN
CALSCALE:GREGORIAN
METHOD:PUBLISH
BEGIN:VEVENT
UID:69eb7867b2114
DTSTAMP:20260424T140423Z
DTSTART:20250716T183000Z
DTEND:20250716T203000Z
LOCATION:
SUMMARY:Torneo de pádel de las Fiestas del Barrio del Carmen
DESCRIPTION:¡TORNEO DE PÁDEL de las Fiestas del Barrio del Carmen! 📅Fe
 cha: Miércoles 16 de Julio de 2025 🕑Hora: 18:30h 📌Lugar: Polideporti
 vo Municipal Categorías: 4ª y 5ª Masculino 5ª Femenino ¡Apúntate ya! 
 Inscripciones al 611 493 603 Organiza Deporte de Alguazas .\nhttps://alguaz
 as.es/events/torneo-de-padel-copy/
URL:https://alguazas.es/events/torneo-de-padel-copy/
END:VEVENT
END:VCALENDAR