BEGIN:VCALENDAR
VERSION:2.0
PRODID:-//eventon.com NONSGML v1.0//EN
CALSCALE:GREGORIAN
METHOD:PUBLISH
BEGIN:VEVENT
UID:69e4ed8da815f
DTSTAMP:20260419T145821Z
DTSTART:20250715T220000Z
DTEND:20250715T235900Z
LOCATION:
SUMMARY:Concierto Góspel
DESCRIPTION:Organiza la Iglesia Evangelista de Alguazas. A las 21:00h desde
  la Plaza del Ayuntamiento saldrá la “Marcha por Jesús” hasta la Plaz
 a Paco Serna 📅Fecha: Martes 15 de Julio de 2025 🕑Hora: 22:00h 📌Lug
 ar: Plaza Paco Sena\nhttps://alguazas.es/events/concierto-gospel/
URL:https://alguazas.es/events/concierto-gospel/
END:VEVENT
END:VCALENDAR