BEGIN:VCALENDAR
VERSION:2.0
PRODID:-//eventon.com NONSGML v1.0//EN
CALSCALE:GREGORIAN
METHOD:PUBLISH
BEGIN:VEVENT
UID:69e574e2d3d9e
DTSTAMP:20260420T003546Z
DTSTART:20250716T100000Z
DTEND:20250716T110000Z
LOCATION:
SUMMARY:Santa Misa a la Virgen del Carmen
DESCRIPTION:📅Fecha: Miércoles 16 de Julio de 2025 🕑Hora: 10:00h 📌
 Lugar: Ermita del Carmen\nhttps://alguazas.es/events/santa-misa-a-la-virgen
 -del-carmen/
URL:https://alguazas.es/events/santa-misa-a-la-virgen-del-carmen/
END:VEVENT
END:VCALENDAR