BEGIN:VCALENDAR
VERSION:2.0
PRODID:-//eventon.com NONSGML v1.0//EN
CALSCALE:GREGORIAN
METHOD:PUBLISH
BEGIN:VEVENT
UID:69e85911208b5
DTSTAMP:20260422T051353Z
DTSTART:20250716T203000Z
DTEND:20250716T230000Z
LOCATION:
SUMMARY:Cantajuegos magia y diversión Poppins
DESCRIPTION:📅Fecha: Miércoles 16 de Julio de 2025 🕑Hora: 20:30h 📌
 Lugar: Plaza Paco Serna\nhttps://alguazas.es/events/cantajuegos-magia-y-div
 ersion-poppins/
URL:https://alguazas.es/events/cantajuegos-magia-y-diversion-poppins/
END:VEVENT
END:VCALENDAR