BEGIN:VCALENDAR
VERSION:2.0
PRODID:-//eventon.com NONSGML v1.0//EN
CALSCALE:GREGORIAN
METHOD:PUBLISH
BEGIN:VEVENT
UID:69e4ea410f677
DTSTAMP:20260419T144417Z
DTSTART:20250716T230000Z
DTEND:20250717T000000Z
LOCATION:
SUMMARY:XV Chiqui San Fermín
DESCRIPTION:Trae camiseta blanca y te damos el pañuelo 📅Fecha: Miércol
 es 16 de Julio de 2025 🕑Hora: 23:00h 📌Recorrido: Salida desde la Call
 e Hernán Cortés con Avenida América\nhttps://alguazas.es/events/xv-chiqu
 i-san-fermin/
URL:https://alguazas.es/events/xv-chiqui-san-fermin/
END:VEVENT
END:VCALENDAR