BEGIN:VCALENDAR
VERSION:2.0
PRODID:-//eventon.com NONSGML v1.0//EN
CALSCALE:GREGORIAN
METHOD:PUBLISH
BEGIN:VEVENT
UID:69e859825f3e6
DTSTAMP:20260422T051546Z
DTSTART:20250717T000000Z
DTEND:20250717T003000Z
LOCATION:
SUMMARY:Fiesta de la espuma
DESCRIPTION:📅Fecha: Jueves 17 de Julio de 2025 🕑Hora: 00:00h 📌Luga
 r: Plaza Paco Serna\nhttps://alguazas.es/events/fiesta-de-la-espuma/
URL:https://alguazas.es/events/fiesta-de-la-espuma/
END:VEVENT
END:VCALENDAR