BEGIN:VCALENDAR
VERSION:2.0
PRODID:-//eventon.com NONSGML v1.0//EN
CALSCALE:GREGORIAN
METHOD:PUBLISH
BEGIN:VEVENT
UID:69e5470f9f51b
DTSTAMP:20260419T212015Z
DTSTART:20250717T220000Z
DTEND:20250717T235900Z
LOCATION:
SUMMARY:"Inmensos" tributo musical a Raphael y Rocío Jurado
DESCRIPTION:📅Fecha: Jueves 17 de Julio de 2025 🕑Hora: 22:00h 📌Luga
 r: Plaza Paco Serna\nhttps://alguazas.es/events/inmensos-tributo-musical-a-
 raphael-y-rocio-jurado/
URL:https://alguazas.es/events/inmensos-tributo-musical-a-raphael-y-rocio-jurado/
END:VEVENT
END:VCALENDAR