BEGIN:VCALENDAR
VERSION:2.0
PRODID:-//eventon.com NONSGML v1.0//EN
CALSCALE:GREGORIAN
METHOD:PUBLISH
BEGIN:VEVENT
UID:69e81f3140288
DTSTAMP:20260422T010657Z
DTSTART:20250720T133000Z
DTEND:20250720T153000Z
LOCATION:
SUMMARY:Fiesta con DJ Plosly
DESCRIPTION:📅Fecha: Domingo 20 de Julio de 2025 🕑Hora: 01:30h 📌Lug
 ar: Plaza Paco Serna\nhttps://alguazas.es/events/fiesta-con-dj-plosly-2/
URL:https://alguazas.es/events/fiesta-con-dj-plosly-2/
END:VEVENT
END:VCALENDAR