BEGIN:VCALENDAR
VERSION:2.0
PRODID:-//eventon.com NONSGML v1.0//EN
CALSCALE:GREGORIAN
METHOD:PUBLISH
BEGIN:VEVENT
UID:69e55df4b7285
DTSTAMP:20260419T225756Z
DTSTART:20250927T100000Z
DTEND:20250927T190000Z
LOCATION:
SUMMARY:I Feria del Libro de Alguazas
DESCRIPTION:📚✨¡LLEGA LA I FERIA DEL LIBRO EN ALGUAZAS!✨📚 El pró
 ximo sábado 27 de septiembre celebramos por primera vez la Feria del Libro
  de Alguazas\,  un evento cargado de cultura\,  lectura y actividades para 
 todos los públicos. 📅 Fecha: Sábado 27 de septiembre 🕐 Horario: De 
 10:00h a 19:00 h 📌[..]\nhttps://alguazas.es/events/i-feria-del-libro-de-
 alguazas/
URL:https://alguazas.es/events/i-feria-del-libro-de-alguazas/
END:VEVENT
END:VCALENDAR