BEGIN:VCALENDAR
VERSION:2.0
PRODID:-//eventon.com NONSGML v1.0//EN
CALSCALE:GREGORIAN
METHOD:PUBLISH
BEGIN:VEVENT
UID:69e952adde560
DTSTAMP:20260422T225853Z
DTSTART:20250626T203000Z
DTEND:20250626T213000Z
LOCATION:
SUMMARY:Nuevo libro de Alguazas en la memoria
DESCRIPTION:¡Presentamos el libro Alguazas en la memoria! Nos emociona inv
 itaros a la presentación de esta entrañable obra que recorre la historia 
 y el patrimonio de nuestro pueblo\,  escrita por Ulpiano Céliz y Pati Lore
 nte. Jueves\,  26 de junio 20:30 horas Torre Vieja de Alguazas Presentació
 n a cargo de Onofre Martínez[..]\nhttps://alguazas.es/events/nuevo-libro-d
 e-alguazas-en-la-memoria/
URL:https://alguazas.es/events/nuevo-libro-de-alguazas-en-la-memoria/
END:VEVENT
END:VCALENDAR