BEGIN:VCALENDAR
VERSION:2.0
PRODID:-//eventon.com NONSGML v1.0//EN
CALSCALE:GREGORIAN
METHOD:PUBLISH
BEGIN:VEVENT
UID:69e782e463cfd
DTSTAMP:20260421T140004Z
DTSTART:20250628T093000Z
DTEND:20250628T003000Z
LOCATION:
SUMMARY:Feria de la Agenda Urbana de Alguazas
DESCRIPTION:¡Llega la Feria de la Agenda Urbana de Alguazas! ¿Quieres for
 mar parte del futuro de nuestro municipio? Ven y participa en la construcci
 ón de la Alguazas del futuro. Sábado 28 de junio Plaza Adolfo Suárez De 
 9:30 a 12:30h Además\,  disfruta de: Juegos infantiles para los más peque
 s Regalos para[..]\nhttps://alguazas.es/events/feria-de-la-agenda-urbana-de
 -alguazas/
URL:https://alguazas.es/events/feria-de-la-agenda-urbana-de-alguazas/
END:VEVENT
END:VCALENDAR