BEGIN:VCALENDAR
VERSION:2.0
PRODID:-//eventon.com NONSGML v1.0//EN
CALSCALE:GREGORIAN
METHOD:PUBLISH
BEGIN:VEVENT
UID:69e92bddeded1
DTSTAMP:20260422T201317Z
DTSTART:20250628
DTEND:20250629
LOCATION:
SUMMARY:Excursión para nuestros mayores
DESCRIPTION:🚌✨¡ATENCIÓN MAYORES! ¡NOS VAMOS DE EXCURSIÓN!✨🚌 E
 l próximo viernes 4 de julio de 2025\,  disfruta de una maravillosa excurs
 ión gratuita a Altea y Calpe 🌊🏛️\,  organizada por el Ayuntamiento
  de Alguazas. 📌Dirigido a: 👴Personas mayores empadronadas en Alguazas
  ✅Incluye transporte\,  guía y comida en restaurante. 📌Reserva en la 
 Biblioteca de[..]\nhttps://alguazas.es/events/excursion-para-nuestros-mayor
 es/
URL:https://alguazas.es/events/excursion-para-nuestros-mayores/
END:VEVENT
END:VCALENDAR