BEGIN:VCALENDAR
VERSION:2.0
PRODID:-//eventon.com NONSGML v1.0//EN
CALSCALE:GREGORIAN
METHOD:PUBLISH
BEGIN:VEVENT
UID:69e8af3520f2a
DTSTAMP:20260422T112125Z
DTSTART:20250910T180000Z
DTEND:20250910T190000Z
LOCATION:
SUMMARY:Taller de risoterapia
DESCRIPTION:🤣✨ Taller de Risoterapia en Alguazas ✨🤣 Porque la ris
 a es la mejor medicina… ¡y sin efectos secundarios! Ven a disfrutar de u
 na tarde diferente llena de alegría y buen humor. 📅Fecha: Miércoles 10
  de Septiembre de 2025 🕑Hora: 18:00h 📌Lugar: Hogar del Pensionista Pa
 ra miembros del Club de la[..]\nhttps://alguazas.es/events/taller-de-risote
 rapia/
URL:https://alguazas.es/events/taller-de-risoterapia/
END:VEVENT
END:VCALENDAR