BEGIN:VCALENDAR
VERSION:2.0
PRODID:-//eventon.com NONSGML v1.0//EN
CALSCALE:GREGORIAN
METHOD:PUBLISH
BEGIN:VEVENT
UID:69e966719d8d8
DTSTAMP:20260423T002313Z
DTSTART:20251011T203000Z
DTEND:20251011T213000Z
LOCATION:
SUMMARY:Abanico de coplas
DESCRIPTION:🎭✨¡Vuelve la emoción de la copla a Alguazas! Este sábad
 o el Cine-Teatro IV Centenario acoge el espectáculo “Abanico de Coplas
 \,  con las magníficas voces de Raúl Palomo y Carmen Murcia\,  acompaña
 dos por el ballet de Carmen Romero 💃🎶 Una noche llena de arte\,  pasi
 ón y tradición que no te puedes[..]\nhttps://alguazas.es/events/abanico-d
 e-coplas/
URL:https://alguazas.es/events/abanico-de-coplas/
END:VEVENT
END:VCALENDAR