BEGIN:VCALENDAR
VERSION:2.0
PRODID:-//eventon.com NONSGML v1.0//EN
CALSCALE:GREGORIAN
METHOD:PUBLISH
BEGIN:VEVENT
UID:69e8f168bbe1e
DTSTAMP:20260422T160352Z
DTSTART:20210522T180000Z
DTEND:20210522T200000Z
LOCATION:
SUMMARY:Partido de fútbol Benjamín vs E.M. Caravaca de la Cruz
DESCRIPTION:Partido de categoría Benjamín: Alguazas C.F. vs Escuela Munic
 ipal Caravaca de la Cruz. Día: sábado 22 de mayo Hora: 18:00 horas Lugar:
  Campo de Fútbol nuevo San Lorenzo de Alguazas\nhttps://alguazas.es/events
 /partido-de-futbol-benjamin-vs-e-m-caravaca-de-la-cruz/
URL:https://alguazas.es/events/partido-de-futbol-benjamin-vs-e-m-caravaca-de-la-cruz/
END:VEVENT
END:VCALENDAR