BEGIN:VCALENDAR
VERSION:2.0
PRODID:-//eventon.com NONSGML v1.0//EN
CALSCALE:GREGORIAN
METHOD:PUBLISH
BEGIN:VEVENT
UID:69e78217ce1ec
DTSTAMP:20260421T135639Z
DTSTART:20250806T210000Z
DTEND:20250806T223000Z
LOCATION:
SUMMARY:Ruta Senderista
DESCRIPTION:🗓️ Fecha: Miércoles 6 de Agosto 🕑 Hora: 21:00h 📌 Sa
 lida desde Plaza de Sto. Domingo 👉 Organizado por la Asociación Juvenil
  Los Simios\nhttps://alguazas.es/events/ruta-senderista/
URL:https://alguazas.es/events/ruta-senderista/
END:VEVENT
END:VCALENDAR