BEGIN:VCALENDAR
VERSION:2.0
PRODID:-//eventon.com NONSGML v1.0//EN
CALSCALE:GREGORIAN
METHOD:PUBLISH
BEGIN:VEVENT
UID:69e81b0965e09
DTSTAMP:20260422T004913Z
DTSTART:20250808T183000Z
DTEND:20250808T200000Z
LOCATION:
SUMMARY:Juegos acuáticos
DESCRIPTION:¡💦🌞 Este verano\,  prepárate para mojarte de diversión
  🌞💦! Los Juegos Acuáticos llegan a las Fiestas de La Huerta de Arrib
 a 2025 y prometen ser una auténtica pasada 💥 📅 Fecha: Viernes 8 de a
 gosto 🕡 Hora: 18:30h 📍   Lugar: Plaza de La Huerta de Arriba Trae t
 u bañador\,  toalla\, [..]\nhttps://alguazas.es/events/juegos-acuaticos/
URL:https://alguazas.es/events/juegos-acuaticos/
END:VEVENT
END:VCALENDAR