BEGIN:VCALENDAR
VERSION:2.0
PRODID:-//eventon.com NONSGML v1.0//EN
CALSCALE:GREGORIAN
METHOD:PUBLISH
BEGIN:VEVENT
UID:69e87a3fd3568
DTSTAMP:20260422T073527Z
DTSTART:20250808T220000Z
DTEND:20250808T230000Z
LOCATION:
SUMMARY:Romería Ibicenca
DESCRIPTION:🗓️ Fecha: Viernes 8 de Agosto 🕑 Hora: 22:00h 📌 Salid
 a desde Ermita de Santo Domingo 💃 ¡¡¡Ven con temática ibicenca!!!\nh
 ttps://alguazas.es/events/romeria-ibicenca/
URL:https://alguazas.es/events/romeria-ibicenca/
END:VEVENT
END:VCALENDAR