BEGIN:VCALENDAR
VERSION:2.0
PRODID:-//eventon.com NONSGML v1.0//EN
CALSCALE:GREGORIAN
METHOD:PUBLISH
BEGIN:VEVENT
UID:69e858d494bdc
DTSTAMP:20260422T051252Z
DTSTART:20250809T230000Z
DTEND:20250809T233000Z
LOCATION:
SUMMARY:Paella Gigante para 500 comensales
DESCRIPTION:🗓️ Fecha: Sábado 9 de Agosto 🕑 Hora: 23:00h 📌 Lugar
 : Plaza de Sto. Domingo   Reserva tu mesa en el 634 04 73 16 🍽️ Paell
 a a Cargo de “El Tirol”\nhttps://alguazas.es/events/paella-gigante-para
 -500-comensales/
URL:https://alguazas.es/events/paella-gigante-para-500-comensales/
END:VEVENT
END:VCALENDAR