BEGIN:VCALENDAR
VERSION:2.0
PRODID:-//eventon.com NONSGML v1.0//EN
CALSCALE:GREGORIAN
METHOD:PUBLISH
BEGIN:VEVENT
UID:69e73901d60c9
DTSTAMP:20260421T084449Z
DTSTART:20250809T233000Z
DTEND:20250810T123000Z
LOCATION:
SUMMARY:Entrega de Trofeos III Torneo de Dominó
DESCRIPTION:🗓️ Fecha: Sábado 9 de Agosto 🕑 Hora: 23:30h 📌 Lugar
 : Plaza de Sto. Domingo\nhttps://alguazas.es/events/entrega-de-trofeos-iii-
 torneo-de-santo-domingo/
URL:https://alguazas.es/events/entrega-de-trofeos-iii-torneo-de-santo-domingo/
END:VEVENT
END:VCALENDAR