BEGIN:VCALENDAR
VERSION:2.0
PRODID:-//eventon.com NONSGML v1.0//EN
CALSCALE:GREGORIAN
METHOD:PUBLISH
BEGIN:VEVENT
UID:69e7d2269df51
DTSTAMP:20260421T193814Z
DTSTART:20250810T123000Z
DTEND:20250810T133000Z
LOCATION:
SUMMARY:Santo Domingo Fest
DESCRIPTION:📅Fecha: Domingo 10 de Agosto de 2025 🕑Hora: 00:30h 📌Lu
 gar: Campo de Béisbol\nhttps://alguazas.es/events/santo-domingo-fest/
URL:https://alguazas.es/events/santo-domingo-fest/
END:VEVENT
END:VCALENDAR