BEGIN:VCALENDAR
VERSION:2.0
PRODID:-//eventon.com NONSGML v1.0//EN
CALSCALE:GREGORIAN
METHOD:PUBLISH
BEGIN:VEVENT
UID:69e9c3292e890
DTSTAMP:20260423T065849Z
DTSTART:20250810T213000Z
DTEND:20250810T223000Z
LOCATION:
SUMMARY:Tradicional Procesión
DESCRIPTION:📅Fecha: Domingo 10 de Agosto de 2025 🕑Hora: 21:30h 📌Sa
 lida desde Ermita de Sto. Domingo\nhttps://alguazas.es/events/tradicional-p
 rocesion/
URL:https://alguazas.es/events/tradicional-procesion/
END:VEVENT
END:VCALENDAR