BEGIN:VCALENDAR
VERSION:2.0
PRODID:-//eventon.com NONSGML v1.0//EN
CALSCALE:GREGORIAN
METHOD:PUBLISH
BEGIN:VEVENT
UID:69e55d450dc2b
DTSTAMP:20260419T225501Z
DTSTART:20210606T010000Z
DTEND:20210613T220000Z
LOCATION:
SUMMARY:Ruta Virtual "Villa de Alguazas"
DESCRIPTION:&nbsp; La Concejalía de Deportes del Ayuntamiento de Alguazas\
 ,  con la colaboración de la Federación de Atletismo de la Región de Mur
 cia\,  organiza la primera Ruta Virtual “Villa de Alguazas”. Se trata d
 e un evento solidario\,  meramente participativo\,  con el fin de promover 
 la actividad física y el deporte\,  en[..]\nhttps://alguazas.es/events/rut
 a-virtual-villa-de-alguazas/
URL:https://alguazas.es/events/ruta-virtual-villa-de-alguazas/
END:VEVENT
END:VCALENDAR