BEGIN:VCALENDAR
VERSION:2.0
PRODID:-//eventon.com NONSGML v1.0//EN
CALSCALE:GREGORIAN
METHOD:PUBLISH
BEGIN:VEVENT
UID:69e79c83aadd9
DTSTAMP:20260421T154923Z
DTSTART:20250915
DTEND:20250916
LOCATION:
SUMMARY:El programa "Applícate" vuelve a Alguazas para los más jóvenes
DESCRIPTION:📱✨ ¡Llega a Alguazas la formación digital gratuita del p
 rograma Applícate: Sube\,  conecta y aprende! 📌 En la Plaza Paco Serna 
 (MAPA) 🗓️ Del 15 al 19 de Septiembre (excepto el martes 16 de Septiemb
 re) 👉 ¿Qué aprenderás? ✅ Realizar trámites en línea ✅ Uso de la
  carpeta ciudadana y[..]\nhttps://alguazas.es/events/el-programa-applicate-
 vuelve-a-alguazas-para-los-mas-jovenes/
URL:https://alguazas.es/events/el-programa-applicate-vuelve-a-alguazas-para-los-mas-jovenes/
END:VEVENT
END:VCALENDAR