BEGIN:VCALENDAR
VERSION:2.0
PRODID:-//eventon.com NONSGML v1.0//EN
CALSCALE:GREGORIAN
METHOD:PUBLISH
BEGIN:VEVENT
UID:69e7b5dbd630f
DTSTAMP:20260421T173731Z
DTSTART:20210606T213000Z
DTEND:20210606T233000Z
LOCATION:
SUMMARY:Gala de presentación de las Damas\,  elección y coronación de la Reina de las Fiestas 2021
DESCRIPTION:Lugar: Plaza Presidente Adolfo Suárez Día: domingo 6 de junio
  de 2021 Hora: 21:30 horas El Pregón de las Fiestas 2021 será leído por 
 Dª Ana Belén Pérez Oliva. El acto será presentado por Manolo Sotomayor\
 ,  y actuará el Grupo Murcianísimos. Colaboran en el evento las empresas 
 locales Laazo 80[..]\nhttps://alguazas.es/events/gala-de-presentacion-de-la
 s-damas-eleccion-y-coronacion-de-la-reina-de-las-fiestas-2021/
URL:https://alguazas.es/events/gala-de-presentacion-de-las-damas-eleccion-y-coronacion-de-la-reina-de-las-fiestas-2021/
END:VEVENT
END:VCALENDAR