BEGIN:VCALENDAR
VERSION:2.0
PRODID:-//eventon.com NONSGML v1.0//EN
CALSCALE:GREGORIAN
METHOD:PUBLISH
BEGIN:VEVENT
UID:69e9ac6954135
DTSTAMP:20260423T052145Z
DTSTART:20210608T220000Z
DTEND:20210608T230000Z
LOCATION:
SUMMARY:Espectáculo musical de “Pepito el Caja”
DESCRIPTION:Lugar: Plaza Presidente Adolfo Suárez Día: martes 8 de junio 
 de 2021 Hora: 22:00 horas Para asistir al evento hay que reservar previamen
 te\,  ya que el aforo es limitado por las restricciones sanitarias. Las res
 ervas serán de hasta 5 personas convivientes y 2 no convivientes\,  debien
 do acudir 10 minutos antes[..]\nhttps://alguazas.es/events/espectaculo-musi
 cal-de-pepito-el-caja/
URL:https://alguazas.es/events/espectaculo-musical-de-pepito-el-caja/
END:VEVENT
END:VCALENDAR