BEGIN:VCALENDAR
VERSION:2.0
PRODID:-//eventon.com NONSGML v1.0//EN
CALSCALE:GREGORIAN
METHOD:PUBLISH
BEGIN:VEVENT
UID:69e5001c792ea
DTSTAMP:20260419T161732Z
DTSTART:20210609T220000Z
DTEND:20210609T230000Z
LOCATION:
SUMMARY:Gala Día de la Región
DESCRIPTION:Lugar: Plaza Presidente Adolfo Suárez Día: miércoles 9 de ju
 nio de 2021 Hora: 22:00 horas Presenta Oché Cortés y actúa el Grupo Murc
 ianísimos. Para asistir al evento hay que reservar previamente\,  ya que e
 l aforo es limitado por las restricciones sanitarias. Las reservas serán d
 e hasta 5 personas convivientes y[..]\nhttps://alguazas.es/events/gala-dia-
 de-la-region/
URL:https://alguazas.es/events/gala-dia-de-la-region/
END:VEVENT
END:VCALENDAR