BEGIN:VCALENDAR
VERSION:2.0
PRODID:-//eventon.com NONSGML v1.0//EN
CALSCALE:GREGORIAN
METHOD:PUBLISH
BEGIN:VEVENT
UID:69e81fbc540e5
DTSTAMP:20260422T010916Z
DTSTART:20210610T213000Z
DTEND:20210610T230000Z
LOCATION:
SUMMARY:Espectáculo infantil “El maravilloso mundo de Drilo”
DESCRIPTION:Lugar: Plaza Presidente Adolfo Suárez Día: jueves 10 de junio
  de 2021 Hora: 21:30 horas Entradas agotadas.\nhttps://alguazas.es/events/e
 spectaculo-infantil-el-maravilloso-mundo-de-drilo/
URL:https://alguazas.es/events/espectaculo-infantil-el-maravilloso-mundo-de-drilo/
END:VEVENT
END:VCALENDAR