BEGIN:VCALENDAR
VERSION:2.0
PRODID:-//eventon.com NONSGML v1.0//EN
CALSCALE:GREGORIAN
METHOD:PUBLISH
BEGIN:VEVENT
UID:69e8fe0df0ade
DTSTAMP:20260422T165749Z
DTSTART:20210612T223000Z
DTEND:20210613T010000Z
LOCATION:
SUMMARY:Concierto de David Jiménez y Lorena Santos
DESCRIPTION:Lugar: Plaza Presidente Adolfo Suárez Día: sábado 12 de juni
 o de 2021 Hora: 22:30 horas Para asistir al evento hay que reservar previam
 ente\,  ya que el aforo es limitado por las restricciones sanitarias. Las r
 eservas serán de hasta 5 personas convivientes y 2 no convivientes\,  debi
 endo acudir 10 minutos antes[..]\nhttps://alguazas.es/events/concierto-de-d
 avid-jimenez-y-lorena-santos/
URL:https://alguazas.es/events/concierto-de-david-jimenez-y-lorena-santos/
END:VEVENT
END:VCALENDAR