BEGIN:VCALENDAR
VERSION:2.0
PRODID:-//eventon.com NONSGML v1.0//EN
CALSCALE:GREGORIAN
METHOD:PUBLISH
BEGIN:VEVENT
UID:69e5a865acc72
DTSTAMP:20260420T041533Z
DTSTART:20210619T200000Z
DTEND:20210619T210000Z
LOCATION:
SUMMARY:Entrega de premios del XIII Concurso Literario “Chimeneas Vigías”
DESCRIPTION:Lugar: Torre Vieja (El Paraje) Día: sábado 19 de junio de 202
 1 Hora: 20:00 horas &nbsp;\nhttps://alguazas.es/events/entrega-de-premios-d
 el-xiii-concurso-literario-chimeneas-vigias-2/
URL:https://alguazas.es/events/entrega-de-premios-del-xiii-concurso-literario-chimeneas-vigias-2/
END:VEVENT
END:VCALENDAR