BEGIN:VCALENDAR
VERSION:2.0
PRODID:-//eventon.com NONSGML v1.0//EN
CALSCALE:GREGORIAN
METHOD:PUBLISH
BEGIN:VEVENT
UID:69e8d73d85c17
DTSTAMP:20260422T141213Z
DTSTART:20251104T160000Z
DTEND:20251104T170000Z
LOCATION:
SUMMARY:Taller de repostería creativa
DESCRIPTION:📅Fecha: Martes 4 de Noviembre de 2025 🕑Hora: 16:00h 📌L
 ugar: Escuela Infantil Reina Sofía\nhttps://alguazas.es/events/taller-de-r
 eposteria-creativa-2/
URL:https://alguazas.es/events/taller-de-reposteria-creativa-2/
END:VEVENT
END:VCALENDAR