BEGIN:VCALENDAR
VERSION:2.0
PRODID:-//eventon.com NONSGML v1.0//EN
CALSCALE:GREGORIAN
METHOD:PUBLISH
BEGIN:VEVENT
UID:69eb2d5a156e6
DTSTAMP:20260424T084410Z
DTSTART:20251119T090000Z
DTEND:20251119T103000Z
LOCATION:
SUMMARY:Hora de un rico desayunito gratis
DESCRIPTION:¿Cuál es la comida más importante del día?🤔 ¡El desayun
 o 🥐! Y si es gratis\,  ¡mucho mejor 🤩! Si perteneces al Club de la T
 ercera Juventud de Alguazas\,  estás invitado a disfrutar de un delicioso 
 desayuno gratis. 🎟️ Invitaciones limitadas 📅 Miércoles 19 de Novie
 mbre 📌 Lugar: Hogar del pensionista[..]\nhttps://alguazas.es/events/hora
 -de-un-rico-desayunito-gratis/
URL:https://alguazas.es/events/hora-de-un-rico-desayunito-gratis/
END:VEVENT
END:VCALENDAR