BEGIN:VCALENDAR
VERSION:2.0
PRODID:-//eventon.com NONSGML v1.0//EN
CALSCALE:GREGORIAN
METHOD:PUBLISH
BEGIN:VEVENT
UID:69e91685ec73c
DTSTAMP:20260422T184213Z
DTSTART:20251117
DTEND:20251118
LOCATION:
SUMMARY:25N · "Día Internacional de la Eliminación de la Violencia contra la Mujer"
DESCRIPTION:Desde el Ayuntamiento de Alguazas presentamos la programación 
 especial organizada para este 25N\,  una semana llena de actividades para c
 oncienciar\,  prevenir y avanzar hacia una sociedad más justa e igualitari
 a.✊💜 📅PROGRAMACIÓN DE LAS ACTIVIDADES 17 NOVIEMBRE ➡️Mastercla
 ss de flamenco con Daniel Asís 18 NOVIEMBRE ➡️Mesa de Coordinación Lo
 cal contra la[..]\nhttps://alguazas.es/events/25n-%c2%b7-dia-internacional-
 de-la-eliminacion-de-la-violencia-contra-la-mujer/
URL:https://alguazas.es/events/25n-%c2%b7-dia-internacional-de-la-eliminacion-de-la-violencia-contra-la-mujer/
END:VEVENT
END:VCALENDAR