BEGIN:VCALENDAR
VERSION:2.0
PRODID:-//eventon.com NONSGML v1.0//EN
CALSCALE:GREGORIAN
METHOD:PUBLISH
BEGIN:VEVENT
UID:69ea117507288
DTSTAMP:20260423T123253Z
DTSTART:20251117T170000Z
DTEND:20251117T180000Z
LOCATION:
SUMMARY:💜Masterclass de flamenco gratuita
DESCRIPTION:Este lunes 17 de noviembre te esperamos en una Masterclass de F
 lamenco impartida por Daniel Asís\,  una actividad abierta a todos los pú
 blicos para visibilizar\,  desde el arte y el movimiento\,  nuestro comprom
 iso con la igualdad.💃✨ 📅Lunes 17 de noviembre 🕐A las 17:00h 📌
 Plaza Presidente Adolfo Suárez 💬«La igualdad es[..]\nhttps://alguazas.
 es/events/%f0%9f%92%9cmasterclass-de-flamenco-gratuita/
URL:https://alguazas.es/events/%f0%9f%92%9cmasterclass-de-flamenco-gratuita/
END:VEVENT
END:VCALENDAR