BEGIN:VCALENDAR
VERSION:2.0
PRODID:-//eventon.com NONSGML v1.0//EN
CALSCALE:GREGORIAN
METHOD:PUBLISH
BEGIN:VEVENT
UID:69e9ac8782762
DTSTAMP:20260423T052215Z
DTSTART:20251122T103000Z
DTEND:20251122T140000Z
LOCATION:
SUMMARY:Torneo de pádel
DESCRIPTION:🎾⚡¡¡Alguazas se prende con el torneo de pádel!!⚡🎾 
 ¿Planazo? Confirmado. El 22 de noviembre a las 10:30 h nos vemos en el Pol
 ideportivo Municipal para un torneo donde lo importante es jugar\,  competi
 r&#8230; ¡y pasarlo BRUTAL!😎🔥🧑‍🤝‍🧑 Busca a tu dúo de c
 onfianza\,  afina el saque y ven a disfrutar como[..]\nhttps://alguazas.es/
 events/torneo-de-padel-2/
URL:https://alguazas.es/events/torneo-de-padel-2/
END:VEVENT
END:VCALENDAR