BEGIN:VCALENDAR
VERSION:2.0
PRODID:-//eventon.com NONSGML v1.0//EN
CALSCALE:GREGORIAN
METHOD:PUBLISH
BEGIN:VEVENT
UID:69ed5dcf5c094
DTSTAMP:20260426T003527Z
DTSTART:20251118T100000Z
DTEND:20251118T130000Z
LOCATION:
SUMMARY:Nuevo curso del Club de la Tercera Juventud
DESCRIPTION:📱¡NUEVO CURSO DEL CLUB DE LA TERCERA JUVENTUD!💬 ¿Quiere
 s aprender a manejar las Redes Sociales y sacarles el máximo partido?🤳 
 ¡Esta es tu oportunidad! 📅Fecha: 18 de noviembre 🕧Horario: De 10:00 
 a 13:00 h 📌Lugar: Biblioteca de Alguazas 🩵Curso gratuito para socios 
 y socias del Club ⚠️¡Plazas limitadas! Inscripciones en[..]\nhttps://a
 lguazas.es/events/nuevo-curso-del-club-de-la-tercera-juventud/
URL:https://alguazas.es/events/nuevo-curso-del-club-de-la-tercera-juventud/
END:VEVENT
END:VCALENDAR