BEGIN:VCALENDAR
VERSION:2.0
PRODID:-//eventon.com NONSGML v1.0//EN
CALSCALE:GREGORIAN
METHOD:PUBLISH
BEGIN:VEVENT
UID:69e7b5c08fb85
DTSTAMP:20260421T173704Z
DTSTART:20251126T090000Z
DTEND:20251126T103000Z
LOCATION:
SUMMARY:Hora de un rico desayunito gratis
DESCRIPTION:¿Os habéis quedado con más ganas de desayunar? Si os habéis
  quedado con las ganas\,  vamos a repetir ese desayuno gratis🤩! Si perte
 neces al Club de la Tercera Juventud de Alguazas\,  estás invitado a disfr
 utar de un delicioso desayuno gratis. 🎟️ Invitaciones limitadas 📅 M
 iércoles 26 de Noviembre 📌 Lugar:[..]\nhttps://alguazas.es/events/hora-
 de-un-rico-desayunito-gratis-copy/
URL:https://alguazas.es/events/hora-de-un-rico-desayunito-gratis-copy/
END:VEVENT
END:VCALENDAR