BEGIN:VCALENDAR
VERSION:2.0
PRODID:-//eventon.com NONSGML v1.0//EN
CALSCALE:GREGORIAN
METHOD:PUBLISH
BEGIN:VEVENT
UID:69e79c7a34f11
DTSTAMP:20260421T154914Z
DTSTART:20251209T173000Z
DTEND:20251209T183000Z
LOCATION:
SUMMARY:Cuentacuentos infantil
DESCRIPTION:👦📖Cuentacuentos infantil📖👧 🗓️ Martes 9 de dici
 embre 🕑 A las 17:30 horas 📌 En la Biblioteca Municipal Organizado por
  Turuli Turule\nhttps://alguazas.es/events/cuentacuentos-infantil-9/
URL:https://alguazas.es/events/cuentacuentos-infantil-9/
END:VEVENT
END:VCALENDAR