BEGIN:VCALENDAR
VERSION:2.0
PRODID:-//eventon.com NONSGML v1.0//EN
CALSCALE:GREGORIAN
METHOD:PUBLISH
BEGIN:VEVENT
UID:69eb3484acde6
DTSTAMP:20260424T091444Z
DTSTART:20251213T120000Z
DTEND:20251213T140000Z
LOCATION:
SUMMARY:Torneo de Balonmano
DESCRIPTION:📅 Sábado 13 de Diciembre 🕧 A las 12:00 horas 📌 En el 
 Pabellón de Deportes Organizado por la Asociación Juvenil Los Simios 🦍
 \nhttps://alguazas.es/events/torneo-de-balonmano/
URL:https://alguazas.es/events/torneo-de-balonmano/
END:VEVENT
END:VCALENDAR