BEGIN:VCALENDAR
VERSION:2.0
PRODID:-//eventon.com NONSGML v1.0//EN
CALSCALE:GREGORIAN
METHOD:PUBLISH
BEGIN:VEVENT
UID:69e839f147c9a
DTSTAMP:20260422T030105Z
DTSTART:20251213T180000Z
DTEND:20251213T200000Z
LOCATION:
SUMMARY:🎄💫¡ENCENDIDO DE NAVIDAD!💫🎄
DESCRIPTION:El sábado 13 de diciembre encendemos juntos la magia de la Nav
 idad en Alguazas.✨❤️ 📅 Sábado 13 de Diciembre 🕧 A las 18:00 ho
 ras 📌 En la Plaza Adolfo Suárez Ven a vivir un encendido lleno de ilusi
 ón\,  luces\,  música y mucha emoción.🎶⭐ Un plan perfecto para disf
 rutar en familia[..]\nhttps://alguazas.es/events/encendido-de-navidad/
URL:https://alguazas.es/events/encendido-de-navidad/
END:VEVENT
END:VCALENDAR