BEGIN:VCALENDAR
VERSION:2.0
PRODID:-//eventon.com NONSGML v1.0//EN
CALSCALE:GREGORIAN
METHOD:PUBLISH
BEGIN:VEVENT
UID:69e8af2a813e5
DTSTAMP:20260422T112114Z
DTSTART:20251214T170000Z
DTEND:20251214T180000Z
LOCATION:
SUMMARY:Inauguración del Belén Municipal
DESCRIPTION:📅 Domingo 14 de Diciembre 🕧 A las 17:00 horas 📌 En la 
 Torre Vieja Organizado por la Asociación Cultural Amigos de la Torre\nhttp
 s://alguazas.es/events/inauguracion-del-belen-municipal-2/
URL:https://alguazas.es/events/inauguracion-del-belen-municipal-2/
END:VEVENT
END:VCALENDAR